BEGIN:VCALENDAR
PRODID:-//kirchenweb.ch gmbh//veranstaltungsausgabe v2.0//DE
VERSION:2.0
METHOD:PUBLISH
BEGIN:VEVENT
DTSTART:20181105T183000Z
DTEND:20181105T201500Z
LOCATION:Kinderhaus Floh\, Mehrzwecksaal\, \,
TRANSP:OPAQUE
SEQUENCE:0
UID:1-veranstaltung@kinderhausfloh.ch
DTSTAMP:20180910T121453Z
DESCRIPTION:Die Teilnahme mindestens eines Elternteiles an dem Elternabend
  wird erwartet.\nDas Thema "Spiel" begleitet uns durch den Abend.\n
 \nKontakt: jolanda.eigenmann@kinderhausfloh.ch\n\nWeitere Infos:
  https://www.kinderhausfloh.ch/veranstaltung/1
SUMMARY:Elternabend 2. Stock
PRIORITY:5
X-MICROSOFT-CDO-IMPORTANCE:1
CLASS:PUBLIC
END:VEVENT
END:VCALENDAR
