BEGIN:VCALENDAR
PRODID:-//kirchenweb.ch gmbh//veranstaltungsausgabe v2.0//DE
VERSION:2.0
METHOD:PUBLISH
BEGIN:VEVENT
DTSTART:20191119T171500Z
DTEND:20191119T190000Z
LOCATION:Kinderhaus Floh\, Biberacherweg 2\, 8580 Amriswil
TRANSP:OPAQUE
SEQUENCE:0
UID:12-veranstaltung@kinderhausfloh.ch
DTSTAMP:20190124T085908Z
DESCRIPTION:Kontakt: jolanda.eigenmann@kinderhausfloh.ch\n\nWeitere Infos:
  https://www.kinderhausfloh.ch/veranstaltung/12
SUMMARY:Lichterfest
PRIORITY:5
X-MICROSOFT-CDO-IMPORTANCE:1
CLASS:PUBLIC
END:VEVENT
END:VCALENDAR
