BEGIN:VCALENDAR
PRODID:-//kirchenweb.ch gmbh//veranstaltungsausgabe v2.0//DE
VERSION:2.0
METHOD:PUBLISH
BEGIN:VEVENT
DTSTART:20260504T043000Z
DTEND:20260504T160000Z
LOCATION:Kinderhaus Floh\, Biberacherweg 2\, 8580 Amriswil
TRANSP:OPAQUE
SEQUENCE:0
UID:15-veranstaltung@kinderhausfloh.ch
DTSTAMP:20251202T095219Z
DESCRIPTION:Der Konzepttag für das Personal findet am Montag\, 4.Mai 2026
  statt\, und daher ist das Kinderhaus geschlossen.\n\nKontakt: Kathrin
  Strasser\nJolanda Eigenmann\n\nWeitere Infos:
  https://www.kinderhausfloh.ch/veranstaltung/15
SUMMARY:Konzepttag
PRIORITY:5
X-MICROSOFT-CDO-IMPORTANCE:1
CLASS:PUBLIC
END:VEVENT
END:VCALENDAR
