BEGIN:VCALENDAR
PRODID:-//kirchenweb.ch gmbh//veranstaltungsausgabe v2.0//DE
VERSION:2.0
METHOD:PUBLISH
BEGIN:VEVENT
DTSTART:20200606T070000Z
DTEND:20200606T090000Z
LOCATION:Kinderhaus Floh\, Biberacherweg 2\, 8580 Amriswil
TRANSP:OPAQUE
SEQUENCE:0
UID:18-veranstaltung@kinderhausfloh.ch
DTSTAMP:20200508T103252Z
DESCRIPTION:Der Elternbrunch findet dieses Jahr leider nicht statt.\n
 \nKontakt: jolanda.eigenmann@kinderhausfloh.ch\n\nWeitere Infos:
  https://www.kinderhausfloh.ch/veranstaltung/18
SUMMARY:Elternbrunch
PRIORITY:5
X-MICROSOFT-CDO-IMPORTANCE:1
CLASS:PUBLIC
END:VEVENT
END:VCALENDAR
