BEGIN:VCALENDAR
PRODID:-//kirchenweb.ch gmbh//veranstaltungsausgabe v2.0//DE
VERSION:2.0
METHOD:PUBLISH
BEGIN:VEVENT
DTSTART:20200606T090000Z
DTEND:20200606T130000Z
LOCATION:Kinderhaus Floh\, Biberacherweg 2\, 8580 Amriswil
TRANSP:OPAQUE
SEQUENCE:0
UID:19-veranstaltung@kinderhausfloh.ch
DTSTAMP:20200508T103413Z
DESCRIPTION:Der Tag der offenen Tür findet leider dieses Jahr nicht
  statt!\n\nKontakt: Kathrin Strasser\nJolanda Eigenmann\n\nWeitere Infos:
  https://www.kinderhausfloh.ch/veranstaltung/19
SUMMARY:Tag der offenen Tür
PRIORITY:5
X-MICROSOFT-CDO-IMPORTANCE:1
CLASS:PUBLIC
END:VEVENT
END:VCALENDAR
