BEGIN:VCALENDAR
PRODID:-//kirchenweb.ch gmbh//veranstaltungsausgabe v2.0//DE
VERSION:2.0
METHOD:PUBLISH
BEGIN:VEVENT
DTSTART:20181108T183000Z
DTEND:20181108T201500Z
LOCATION:KInderhaus Floh Mehrzwecksaal\, \,
TRANSP:OPAQUE
SEQUENCE:0
UID:2-veranstaltung@kinderhausfloh.ch
DTSTAMP:20180907T050933Z
DESCRIPTION:Die Teilnahme mindestens eines Elternteils an dem Elternabend
  wird erwartet.\nDas Thema "Spiel" begleitet  uns durch den Abend.\n
 \nKontakt: jolanda.eigenmann@kinderhausfloh.ch\n\nWeitere Infos:
  https://www.kinderhausfloh.ch/veranstaltung/2
SUMMARY:Elternabend 1. Stock
PRIORITY:5
X-MICROSOFT-CDO-IMPORTANCE:1
CLASS:PUBLIC
END:VEVENT
END:VCALENDAR
