BEGIN:VCALENDAR
PRODID:-//kirchenweb.ch gmbh//veranstaltungsausgabe v2.0//DE
VERSION:2.0
METHOD:PUBLISH
BEGIN:VEVENT
DTSTART:20261117T171500Z
DTEND:20261117T183000Z
LOCATION:Kinderhaus Floh\, Biberacherweg 2\, 8580 Amriswil
TRANSP:OPAQUE
SEQUENCE:0
UID:22-veranstaltung@kinderhausfloh.ch
DTSTAMP:20251202T095258Z
DESCRIPTION:Kontakt: Kathrin Strasser\nJolanda Eigenmann\n\nWeitere Infos:
  https://www.kinderhausfloh.ch/veranstaltung/22
SUMMARY:Lichterfest
PRIORITY:5
X-MICROSOFT-CDO-IMPORTANCE:1
CLASS:PUBLIC
END:VEVENT
END:VCALENDAR
