BEGIN:VCALENDAR
PRODID:-//kirchenweb.ch gmbh//veranstaltungsausgabe v2.0//DE
VERSION:2.0
METHOD:PUBLISH
BEGIN:VEVENT
DTSTART:20201224T110000Z
DTEND:20201224T170000Z
LOCATION:Kinderhaus Floh\, Biberacherweg 2\, 8580 Amriswil
TRANSP:OPAQUE
SEQUENCE:0
UID:23-veranstaltung@kinderhausfloh.ch
DTSTAMP:20200117T132854Z
DESCRIPTION:Das Kinderhaus Floh hat vom 24.12.2020 ab 12.00 Uhr bis am
  03.01.2021 Betriebsferien. Ab dem 04. Januar 2021 ist das Kinderhaus für
  Ihre Kinder wieder geöffnet.\n\nKontakt: Kathrin Strasser\nJolanda
  Eigenmann\n\nWeitere Infos:
  https://www.kinderhausfloh.ch/veranstaltung/23
SUMMARY:Weihnachtsferien
PRIORITY:5
X-MICROSOFT-CDO-IMPORTANCE:1
CLASS:PUBLIC
END:VEVENT
END:VCALENDAR
