BEGIN:VCALENDAR
PRODID:-//kirchenweb.ch gmbh//veranstaltungsausgabe v2.0//DE
VERSION:2.0
METHOD:PUBLISH
BEGIN:VEVENT
DTSTART:20181120T171500Z
DTEND:20181120T183000Z
LOCATION:Kinderhaus Floh\, \,
TRANSP:OPAQUE
SEQUENCE:0
UID:3-veranstaltung@kinderhausfloh.ch
DTSTAMP:20180906T150519Z
DESCRIPTION:Das Floh - Team lädt die Eltern und Kinder zum jährlichen
  Anlass ein. Die Einladung folgt.\n\nKontakt:
  jolanda.eigenmann@kinderhausfloh.ch\n\nWeitere Infos:
  https://www.kinderhausfloh.ch/veranstaltung/3
SUMMARY:Lichterfest
PRIORITY:5
X-MICROSOFT-CDO-IMPORTANCE:1
CLASS:PUBLIC
END:VEVENT
END:VCALENDAR
